BEGIN:VCALENDAR
VERSION:2.0
PRODID:-//APPAL - ECPv6.15.14//NONSGML v1.0//EN
CALSCALE:GREGORIAN
METHOD:PUBLISH
X-WR-CALNAME:APPAL
X-ORIGINAL-URL:https://appal.ca
X-WR-CALDESC:Évènements pour APPAL
REFRESH-INTERVAL;VALUE=DURATION:PT1H
X-Robots-Tag:noindex
X-PUBLISHED-TTL:PT1H
BEGIN:VTIMEZONE
TZID:America/Toronto
BEGIN:DAYLIGHT
TZOFFSETFROM:-0500
TZOFFSETTO:-0400
TZNAME:EDT
DTSTART:20250309T070000
END:DAYLIGHT
BEGIN:STANDARD
TZOFFSETFROM:-0400
TZOFFSETTO:-0500
TZNAME:EST
DTSTART:20251102T060000
END:STANDARD
BEGIN:DAYLIGHT
TZOFFSETFROM:-0500
TZOFFSETTO:-0400
TZNAME:EDT
DTSTART:20260308T070000
END:DAYLIGHT
BEGIN:STANDARD
TZOFFSETFROM:-0400
TZOFFSETTO:-0500
TZNAME:EST
DTSTART:20261101T060000
END:STANDARD
BEGIN:DAYLIGHT
TZOFFSETFROM:-0500
TZOFFSETTO:-0400
TZNAME:EDT
DTSTART:20270314T070000
END:DAYLIGHT
BEGIN:STANDARD
TZOFFSETFROM:-0400
TZOFFSETTO:-0500
TZNAME:EST
DTSTART:20271107T060000
END:STANDARD
END:VTIMEZONE
BEGIN:VEVENT
DTSTART;VALUE=DATE:20260422
DTEND;VALUE=DATE:20260423
DTSTAMP:20260422T013225
CREATED:20260227T201656Z
LAST-MODIFIED:20260227T201742Z
UID:10002791-1776816000-1776902399@appal.ca
SUMMARY:Hommage aux bénévoles - 22 avril 2026
DESCRIPTION:Pour bénévoles seulement! Informations sur l’activité sur l’invitation.
URL:https://appal.ca/evenement/hommage-aux-benevoles-22-avril-2026/
LOCATION:Appal\, 421B Bd du Curé-Labelle\, Blainville\, Québec\, J7C 2H4\, Canada
CATEGORIES:Autres activités,Service d'interprétation
ATTACH;FMTTYPE=image/jpeg:https://appal.ca/wp-content/uploads/2026/02/Appal_CDS_2026-04-22-journee-benevole-scaled.jpg
END:VEVENT
END:VCALENDAR